BEGIN:VCALENDAR
VERSION:2.0
PRODID:-//www.nelinerodeo.com//NONSGML kigkonsult.se iCalcreator 2.30.10//
CALSCALE:GREGORIAN
METHOD:PUBLISH
UID:28784084-0608-4ed9-a8bf-1406d1230f47
X-WR-CALDESC:
X-WR-RELCALID:3ce2aac8055397123953ec72e889357c
X-WR-TIMEZONE:America/Chicago
BEGIN:VTIMEZONE
TZID:America/Chicago
BEGIN:STANDARD
TZNAME:CST
DTSTART:20251102T020000
TZOFFSETFROM:-0500
TZOFFSETTO:-0600
RDATE:20261101T020000
RDATE:20271107T020000
END:STANDARD
BEGIN:DAYLIGHT
TZNAME:CDT
DTSTART:20260308T020000
TZOFFSETFROM:-0600
TZOFFSETTO:-0500
RDATE:20270314T020000
END:DAYLIGHT
END:VTIMEZONE
BEGIN:VEVENT
UID:137bb4e6-9cbf-4bd0-ad6f-0fb03e8a7ed6
DTSTAMP:20260421T115813Z
DESCRIPTION:
DTSTART;TZID=America/Chicago:20260716T050000
DTEND;TZID=America/Chicago:20260717T050001
LOCATION:Broken Bow\, NE
SUMMARY:2026 Apprentice Registration
END:VEVENT
END:VCALENDAR
